BEGIN:VCALENDAR
VERSION:2.0
PRODID:-//ChamberMaster//Event Calendar 2.0//EN
METHOD:PUBLISH
X-PUBLISHED-TTL:P3D
REFRESH-INTERVAL:P3D
CALSCALE:GREGORIAN
BEGIN:VEVENT
DTSTART:20181019T140000Z
DTEND:20181019T213000Z
X-MICROSOFT-CDO-ALLDAYEVENT:FALSE
SUMMARY:Adaptive Reorientation: An Adlerian Treatment Model
DESCRIPTION:In this daylong workshop\, the Adaptive Reorientation model of Adlerian-Dreikursian treatment will be presented. Included with be the objectives in counseling\, the nature of dis-orientation and the importance of reorientation. Topics will include the lifestyle assessment\, including early recollection and their role in reorientation\, description of social realities and the challenges of optimal functioning. The role of awareness\, psychological muscle and social interest are emphasized in this approach. Attendees will be taken through the phases of treatment and provided strategies for prompting psychological change. Demonstration and practice will be included in the presentation. This workshop is led by Paul Rasmussen\, PhD. Objectives Discussion of the different goals of treatment Overview of basic concepts in Adlerian-Dreikursian Psychology Presentation of the 12 premises of Adaptive Reorientation Therapy Instruction in the phases of Adaptive Reorientation Therapy Adaptive Awareness Reorientation Training in Psychological Muscle and Social Interest Adler Graduate School has been approved by NBCC as an Approved Continuing Education Provider\, ACEP No. 6915. Programs that do not qualify for NBCC credit are clearly identified. Adler Graduate School is solely responsible for all aspects of the programs.
X-ALT-DESC;FMTTYPE=text/html:In this daylong workshop\, the Adaptive Reorientation model of Adlerian-Dreikursian treatment will be presented. Included with be the objectives in counseling\, the nature of dis-orientation and the importance of reorientation. Topics will include the lifestyle assessment\, including early recollection and their role in reorientation\, description of social realities and the challenges of optimal functioning. The role of awareness\, psychological muscle and social interest are emphasized in this approach. Attendees will be taken through the phases of treatment and provided strategies for prompting psychological change. Demonstration and practice will be included in the presentation. This workshop is led by Paul Rasmussen\, PhD. Objectives Discussion of the different goals of treatment Overview of basic concepts in Adlerian-Dreikursian Psychology Presentation of the 12 premises of Adaptive Reorientation Therapy Instruction in the phases of Adaptive Reorientation Therapy Adaptive Awareness Reorientation Training in Psychological Muscle and Social Interest Adler Graduate School has been approved by NBCC as an Approved Continuing Education Provider\, ACEP No. 6915. Programs that do not qualify for NBCC credit are clearly identified. Adler Graduate School is solely responsible for all aspects of the programs.
LOCATION:Alder Graduate School 10225 Yellow Circle Drive Minnetonka\, MN 55343
UID:e.1968.10291
SEQUENCE:3
DTSTAMP:20260423T211401Z
URL:https://business.mplschamber.com/events/details/adaptive-reorientation-an-adlerian-treatment-model-10-19-2018-10291
END:VEVENT

END:VCALENDAR
