BEGIN:VCALENDAR
VERSION:2.0
PRODID:-//ChamberMaster//Event Calendar 2.0//EN
METHOD:PUBLISH
X-PUBLISHED-TTL:P3D
REFRESH-INTERVAL:P3D
CALSCALE:GREGORIAN
BEGIN:VEVENT
DTSTART:20200502T193000Z
DTEND:20200502T233000Z
X-MICROSOFT-CDO-ALLDAYEVENT:FALSE
SUMMARY:Kentucky Derby Day Soiree
DESCRIPTION:Hennepin Healthcare was selected to benefit from the charitable viewing party of the Kentucky Derby at the Minneapolis Club. Dress to impress and enjoy an afternoon full of delight\, including a menu of nutritious\, delicious\, functional foods\, and craft cocktails. All proceeds benefit the nutrition programming of Hennepin Healthcare's Kitchen Table\, a teaching kitchen opening in 2021. Event sponsored by MyFormulary
X-ALT-DESC;FMTTYPE=text/html:Hennepin Healthcare was selected to benefit from the charitable viewing party of the Kentucky Derby at the Minneapolis Club. Dress to impress and enjoy an afternoon full of delight\, including a menu of nutritious\, delicious\, functional foods\, and craft cocktails. All proceeds benefit the nutrition programming of Hennepin Healthcare&rsquo\;s Kitchen Table\, a teaching kitchen opening in 2021. Event sponsored by MyFormulary
LOCATION:Minneapolis Club 729 2nd Ave S. Minneapolis\, MN 55402
UID:e.1968.10965
SEQUENCE:3
DTSTAMP:20260422T060613Z
URL:https://business.mplschamber.com/events/details/kentucky-derby-day-soiree-05-02-2020-10965
END:VEVENT

END:VCALENDAR
