BEGIN:VCALENDAR
VERSION:2.0
PRODID:-//ChamberMaster//Event Calendar 2.0//EN
METHOD:PUBLISH
X-PUBLISHED-TTL:P3D
REFRESH-INTERVAL:P3D
CALSCALE:GREGORIAN
BEGIN:VEVENT
DTSTART:20260528T123000Z
DTEND:20260528T143000Z
X-MICROSOFT-CDO-ALLDAYEVENT:FALSE
SUMMARY:Member Event: Build What’s Next: Step Beyond Traditional Roles\, and Build Something of Your Own!
DESCRIPTION:What if the next chapter of your career isn't a promotion\, but a decision?\n\nOn May 28th\, from 7:30 9:30 AM at MRA\, join us for a powerful morning conversation with three leaders who chose to step beyond traditional roles and build something of their own.\n\nStarring:\n\n\n	Kelli Schnieder\, Katalyst Advisors\n	Kendra Brodin\, Equireswell\n	Kristin Nordling\, LakesideHR\n\n\nEmceed by Julieta Piox\, Julieta Piox Consulting\n\nEach of these women represents a different phase of building\, from launching to scaling a business\, offering an honest look at what it really takes to move from idea to action.\n\nTogether\, we'll explore:\n\n\n	The defining leadership moments that sparked change\n	The first bold step they took before they felt fully ready\n	How they navigated financial risk and stability\n	Building alongside a corporate role vs. creating a runway\n	What surprised them most in year one\n	How to know when it's time to leap\n\n\nThis conversation isn't about abandoning your career. It's about expanding it.\n\nWhether you're curious\, quietly building on the side\, or actively planning your next move\, this is a room for women ready to think bigger about what's possible.\n\nIf you've been asking yourself\, "What's next?" This is your moment to start building it.\n\nOnline Registration Closes on May 26\, 2026
X-ALT-DESC;FMTTYPE=text/html:<h4>What if the next chapter of your career isn&rsquo\;t a promotion\, but a decision?</h4>\n\n<p>On May 28th\, from 7:30&ndash\;9:30 AM at MRA\, join us for a powerful morning conversation with three leaders who chose to step beyond traditional roles and build something of their own.</p>\n\n<p><span style="color:rgb(3\, 47\, 92) !important">Starring:</span></p>\n\n<ul>\n	<li>Kelli Schnieder\, Katalyst Advisors</li>\n	<li>Kendra Brodin\, Equireswell</li>\n	<li>Kristin Nordling\, LakesideHR</li>\n</ul>\n\n<p>Emceed by Julieta Piox\, Julieta Piox Consulting</p>\n\n<p>Each of these women represents a different phase of building\, from launching to scaling a business\, offering an honest look at what it really takes to move from idea to action.</p>\n\n<p>Together\, we&rsquo\;ll explore:</p>\n\n<ul>\n	<li>The defining leadership moments that sparked change</li>\n	<li>The first bold step they took before they felt fully ready</li>\n	<li>How they navigated financial risk and stability</li>\n	<li>Building alongside a corporate role vs. creating a runway</li>\n	<li>What surprised them most in year one</li>\n	<li>How to know when it&rsquo\;s time to leap</li>\n</ul>\n\n<p>This conversation isn&rsquo\;t about abandoning your career. It&rsquo\;s about&nbsp\;<span style="color:rgb(3\, 47\, 92) !important">expanding</span>&nbsp\;it.</p>\n\n<p>Whether you&rsquo\;re curious\, quietly building on the side\, or actively planning your next move\, this is a room for women ready to think bigger about what&rsquo\;s possible.</p>\n\n<p>If you&rsquo\;ve been asking yourself\,&nbsp\;<em><span style="color:rgb(3\, 47\, 92) !important">&ldquo\;What&rsquo\;s next?&rdquo\;</span></em>&nbsp\;This is your moment to start building it.</p>\n\n<h5>Online Registration Closes on May 26\, 2026</h5>\n
LOCATION:MRA The Management Association 5980 Golden Hills Dr Golden Valley\, Minnesota 55416
UID:e.1968.16999
SEQUENCE:3
DTSTAMP:20260425T134711Z
URL:https://business.mplschamber.com/events/details/member-event-build-what-s-next-step-beyond-traditional-roles-and-build-something-of-your-own-16999
END:VEVENT

END:VCALENDAR
