BEGIN:VCALENDAR
VERSION:2.0
PRODID:-//ChamberMaster//Event Calendar 2.0//EN
METHOD:PUBLISH
X-PUBLISHED-TTL:P3D
REFRESH-INTERVAL:P3D
CALSCALE:GREGORIAN
BEGIN:VEVENT
DTSTART:20260407T220000Z
DTEND:20260408T000000Z
X-MICROSOFT-CDO-ALLDAYEVENT:FALSE
SUMMARY:Member Event: Social Hour at Punch Bowl Social
DESCRIPTION:Spring is here   let's celebrate!\n\nJoin us for an informal social hour at Punch Bowl Social. This unique venue is the perfect place to meet new connections.\n\nBring your friends\, co-workers\, mentors/mentees and colleagues. All are welcome.\n\nThis is the perfect opportunity to connect with others you will see at our Leadership Conference on May 8th!\n\nAppetizers\, a drink ticket\, and a cash bar serving your favorite mocktails and cocktails will be provided at this event! Registration is complimentary for those in our Spring (June 2025) or Fall (November 2025) Mentor Program. Use the code 'MentorProgram'.\n\nDon't miss this opportunity to network with the top Twin Cities professionals.\n\nSpecial thanks to Punch Bowl Social for hosting us. We can't wait!\n\n \n\nRegistration Closes: April 5th\, 2026 at 5:00 PM
X-ALT-DESC;FMTTYPE=text/html:<h2>Spring is here &ndash\; let&rsquo\;s celebrate!</h2>\n\n<p>Join us for an informal social hour at&nbsp\;<a href="https://punchbowlsocial.com/location/minneapolis/" style="color: rgb(160\, 198\, 255)\; box-sizing: border-box\; outline: 0px\;" target="_blank">Punch Bowl Social</a>. This unique venue is the perfect place to meet new connections.</p>\n\n<p>Bring your friends\, co-workers\, mentors/mentees and colleagues. All are welcome.</p>\n\n<p>This is the perfect opportunity to connect with others you will see at our Leadership Conference on May 8th!</p>\n\n<p><em>Appetizers\, a drink ticket\, and a cash bar</em>&nbsp\;serving your favorite mocktails and cocktails will be provided at this event! Registration is complimentary for those in our Spring (June 2025) or Fall (November 2025) Mentor Program.&nbsp\;<em>Use the code &lsquo\;MentorProgram&rsquo\;</em>.</p>\n\n<p>Don&rsquo\;t miss this opportunity to network with the top Twin Cities professionals.</p>\n\n<p>Special thanks to Punch Bowl Social for hosting us. We can&rsquo\;t wait!</p>\n\n<p>&nbsp\;</p>\n\n<p>Registration Closes: April 5th\, 2026 at 5:00 PM</p>\n
LOCATION:Punch Bowl Social 1691 Park Place Boulevard Minneapolis\, MN 55416 United States
UID:e.1968.16993
SEQUENCE:3
DTSTAMP:20260423T160639Z
URL:https://business.mplschamber.com/events/details/member-event-social-hour-at-punch-bowl-social-04-07-2026-16993
END:VEVENT

END:VCALENDAR
