BEGIN:VCALENDAR
VERSION:2.0
PRODID:-//ChamberMaster//Event Calendar 2.0//EN
METHOD:PUBLISH
X-PUBLISHED-TTL:P3D
REFRESH-INTERVAL:P3D
CALSCALE:GREGORIAN
BEGIN:VEVENT
DTSTART:20240227T133000Z
DTEND:20240227T150000Z
X-MICROSOFT-CDO-ALLDAYEVENT:FALSE
SUMMARY:Member Event: TeamWomen Energy Breakfast | February 2024
DESCRIPTION:Kick-start your day with some networking over breakfast.\n\nA balanced continental breakfast will be provided that includes muffins\, yogurt\, fruit\, energy bars\, and of course\, coffee.\n\nYou may already know that networking is the key to propelling your career growth & gaining key industry knowledge. This is an amazing opportunity to connect face-to-face with the TeamWomen community and develop your networking skills.\n\nWith TeamWomen\, you never know what could come from a conversation over breakfast!
X-ALT-DESC;FMTTYPE=text/html:<h2>Kick-start your day with some networking over breakfast.</h2>\n\n<p>A balanced continental breakfast will be provided that includes muffins\, yogurt\, fruit\, energy bars\, and of course\, coffee.</p>\n\n<p>You may already know that networking is the key to propelling your career growth &amp\; gaining key industry knowledge. This is an amazing opportunity to connect face-to-face with the TeamWomen community and develop your networking skills.</p>\n\n<p>With TeamWomen\, you never know what could come from a conversation over breakfast!</p>\n
LOCATION:West End Conference Center
UID:e.1968.15234
SEQUENCE:3
DTSTAMP:20260419T140534Z
URL:https://business.mplschamber.com/events/details/member-event-teamwomen-energy-breakfast-february-2024-15234
END:VEVENT

END:VCALENDAR
