BEGIN:VCALENDAR
VERSION:2.0
PRODID:-//ChamberMaster//Event Calendar 2.0//EN
METHOD:PUBLISH
X-PUBLISHED-TTL:P3D
REFRESH-INTERVAL:P3D
CALSCALE:GREGORIAN
BEGIN:VEVENT
DTSTART:20190125T003000Z
DTEND:20190125T020000Z
X-MICROSOFT-CDO-ALLDAYEVENT:FALSE
SUMMARY:Women's Self Protection Seminar
DESCRIPTION:Since it is the holiday season and people are traveling there is an increase in crime this time of the year. We thought it was good timing to host a self protection seminar to learn some new tips and tricks. This is a lecture only style format and not a physical techniques session.
X-ALT-DESC;FMTTYPE=text/html:Since it is the holiday season and people are traveling there is an increase in crime this time of the year. We thought it was good timing to host a self protection seminar to learn some new tips and tricks. This is a lecture only style format and not a physical techniques session.
LOCATION:Northeast Recreation Center 1520 Johnson St. NE Minneapolis\, MN 55413
UID:e.1968.10586
SEQUENCE:3
DTSTAMP:20260419T165858Z
URL:https://business.mplschamber.com/events/details/women-s-self-protection-seminar-01-24-2019-10586
END:VEVENT

END:VCALENDAR
